BEGIN:VCALENDAR
VERSION:2.0
PRODID:SchoolNow
CALSCALE:GREGORIAN
BEGIN:VEVENT
UID:efc8b9ee-d40c-11e9-a954-128a48b45dec
DTSTAMP:20190910T205243Z
SUMMARY:Parent Teacher Conferences
URL;VALUE=URI:https://www.niles71.org/about-us/calendar/2088997/parent-teac
 her-conferences
DTSTART:20191126T080000Z
DTEND:20191126T120000Z
END:VEVENT
END:VCALENDAR
