BEGIN:VCALENDAR
VERSION:2.0
PRODID:SchoolNow
CALSCALE:GREGORIAN
BEGIN:VEVENT
UID:6b5d8922-d40d-11e9-9331-128a48b45dec
DTSTAMP:20190910T205611Z
SUMMARY:Parent Teacher Conferences
URL;VALUE=URI:https://www.niles71.org/about-us/calendar/2088998/parent-teac
 heer-conferences
DTSTART:20200305T110000Z
DTEND:20200305T180000Z
END:VEVENT
END:VCALENDAR
