BEGIN:VCALENDAR
VERSION:2.0
PRODID:SchoolNow
CALSCALE:GREGORIAN
BEGIN:VEVENT
UID:f6d3096e-735e-11ea-9423-0ac18df3e1a7
DTSTAMP:20200331T145029Z
SUMMARY:e-Learning Day
URL;VALUE=URI:https://www.niles71.org/about-us/calendar/2227609/e-learning-
 day
DTSTART;VALUE=DATE:20200401
DTEND;VALUE=DATE:20200402
END:VEVENT
END:VCALENDAR
