BEGIN:VCALENDAR
VERSION:2.0
PRODID:SchoolNow
CALSCALE:GREGORIAN
BEGIN:VEVENT
UID:318a3a96-735f-11ea-af76-0ac18df3e1a7
DTSTAMP:20200331T145207Z
SUMMARY:e-Learning Day
URL;VALUE=URI:https://www.niles71.org/about-us/calendar/2227610/e-learning-
 day
DTSTART;VALUE=DATE:20200402
DTEND;VALUE=DATE:20200403
END:VEVENT
END:VCALENDAR
