BEGIN:VCALENDAR
VERSION:2.0
PRODID:SchoolNow
CALSCALE:GREGORIAN
BEGIN:VEVENT
UID:41361c6c-735f-11ea-af69-0ac18df3e1a7
DTSTAMP:20200331T145234Z
SUMMARY:e-Learning Day
URL;VALUE=URI:https://www.niles71.org/about-us/calendar/2227611/e-learning-
 day
DTSTART;VALUE=DATE:20200331
DTEND;VALUE=DATE:20200401
END:VEVENT
END:VCALENDAR
