BEGIN:VCALENDAR
VERSION:2.0
PRODID:SchoolNow
CALSCALE:GREGORIAN
BEGIN:VEVENT
UID:6a9475fa-dd99-11ea-8493-129df24e09e7
DTSTAMP:20200813T191704Z
SUMMARY:Board of Education Meeting
URL;VALUE=URI:https://www.niles71.org/about-us/calendar/2305810/board-of-ed
 ucation-meeting
DTSTART:20200818T183000Z
DTEND:20200818T201400Z
END:VEVENT
END:VCALENDAR
