BEGIN:VCALENDAR
VERSION:2.0
PRODID:SchoolNow
CALSCALE:GREGORIAN
BEGIN:VEVENT
UID:cff8ef82-dd9b-11ea-b419-12d4fc0a5f8b
DTSTAMP:20200813T193306Z
SUMMARY:Board of Education Meeting
URL;VALUE=URI:https://www.niles71.org/about-us/calendar/2305811/board-of-ed
 ucation-meeting
DTSTART:20200915T183000Z
DTEND:20200915T193000Z
END:VEVENT
END:VCALENDAR
