BEGIN:VCALENDAR
VERSION:2.0
PRODID:SchoolNow
CALSCALE:GREGORIAN
BEGIN:VEVENT
UID:f4b11a66-dd9b-11ea-88d7-12d4fc0a5f8b
DTSTAMP:20200813T193408Z
SUMMARY:Board of Education Meeting
URL;VALUE=URI:https://www.niles71.org/about-us/calendar/2305812/board-of-ed
 ucation-meeting
DTSTART:20201020T183000Z
DTEND:20201020T193000Z
END:VEVENT
END:VCALENDAR
