BEGIN:VCALENDAR
VERSION:2.0
PRODID:SchoolNow
CALSCALE:GREGORIAN
BEGIN:VEVENT
UID:6859dd66-dd9e-11ea-8d67-0a7b6f557baf
DTSTAMP:20200813T195141Z
SUMMARY:Board of Education Meeting
URL;VALUE=URI:https://www.niles71.org/about-us/calendar/2305819/board-of-ed
 ucation-meeting
DTSTART:20201117T183000Z
DTEND:20201117T193000Z
END:VEVENT
END:VCALENDAR
