BEGIN:VCALENDAR
VERSION:2.0
PRODID:SchoolNow
CALSCALE:GREGORIAN
BEGIN:VEVENT
UID:63d07ad8-dd9f-11ea-95b4-1238a9e0f40b
DTSTAMP:20201130T194054Z
SUMMARY:Board of Education Meeting
URL;VALUE=URI:https://www.niles71.org/about-us/calendar/2305822/board-of-ed
 ucation-meeting
DTSTART:20201208T163000Z
DTEND:20201208T173000Z
END:VEVENT
END:VCALENDAR
