BEGIN:VCALENDAR
VERSION:2.0
PRODID:SchoolNow
CALSCALE:GREGORIAN
BEGIN:VEVENT
UID:b79da528-dd9f-11ea-b25a-1238a9e0f40b
DTSTAMP:20200813T200103Z
SUMMARY:Board of Education Meeting
URL;VALUE=URI:https://www.niles71.org/about-us/calendar/2305824/board-of-ed
 ucation-meeting
DTSTART:20210119T183000Z
DTEND:20210119T193000Z
END:VEVENT
END:VCALENDAR
