BEGIN:VCALENDAR
VERSION:2.0
PRODID:SchoolNow
CALSCALE:GREGORIAN
BEGIN:VEVENT
UID:ee7f8e12-dd9f-11ea-9383-1238a9e0f40b
DTSTAMP:20200813T202802Z
SUMMARY:Board of Education Meeting
URL;VALUE=URI:https://www.niles71.org/about-us/calendar/2305827/board-of-ed
 ucation-meeting
DTSTART:20210216T183000Z
DTEND:20210216T193000Z
END:VEVENT
END:VCALENDAR
