BEGIN:VCALENDAR
VERSION:2.0
PRODID:SchoolNow
CALSCALE:GREGORIAN
BEGIN:VEVENT
UID:879fc760-dda0-11ea-af30-1238a9e0f40b
DTSTAMP:20210409T191956Z
SUMMARY:Board of Education Meeting
URL;VALUE=URI:https://www.niles71.org/about-us/calendar/2305829/board-of-ed
 ucation-meeting
DTSTART:20210428T183000Z
DTEND:20210428T193000Z
END:VEVENT
END:VCALENDAR
