BEGIN:VCALENDAR
VERSION:2.0
PRODID:SchoolNow
CALSCALE:GREGORIAN
BEGIN:VEVENT
UID:9d9c5ae2-dda0-11ea-abc7-1238a9e0f40b
DTSTAMP:20210113T173424Z
SUMMARY:Board of Education Meeting
URL;VALUE=URI:https://www.niles71.org/about-us/calendar/2305830/board-of-ed
 ucation-meeting
DTSTART:20210518T183000Z
DTEND:20210518T193000Z
END:VEVENT
END:VCALENDAR
