BEGIN:VCALENDAR
VERSION:2.0
PRODID:SchoolNow
CALSCALE:GREGORIAN
BEGIN:VEVENT
UID:c560782e-dda0-11ea-aa87-0a7b6f557baf
DTSTAMP:20210602T162320Z
SUMMARY:Board of Education Meeting
URL;VALUE=URI:https://www.niles71.org/about-us/calendar/2305832/board-of-ed
 ucation-meeting
DTSTART:20210615T183000Z
DTEND:20210615T193000Z
END:VEVENT
END:VCALENDAR
