BEGIN:VCALENDAR
VERSION:2.0
PRODID:SchoolNow
CALSCALE:GREGORIAN
BEGIN:VEVENT
UID:62bd5876-f2b4-11ea-a6f1-127797601c3d
DTSTAMP:20200909T155155Z
SUMMARY:No School
URL;VALUE=URI:https://www.niles71.org/about-us/calendar/2343287/no-school
DTSTART:20201012T155100Z
DTEND:20201012T165100Z
END:VEVENT
END:VCALENDAR
