BEGIN:VCALENDAR
VERSION:2.0
PRODID:SchoolNow
CALSCALE:GREGORIAN
BEGIN:VEVENT
UID:8a589210-f2b4-11ea-bcf2-127797601c3d
DTSTAMP:20200909T155417Z
SUMMARY:No School - Teacher Institute Day
URL;VALUE=URI:https://www.niles71.org/about-us/calendar/2343288/no-school-t
 eacher-institute
DTSTART:20201102T155200Z
DTEND:20201102T165200Z
END:VEVENT
END:VCALENDAR
