BEGIN:VCALENDAR
VERSION:2.0
PRODID:SchoolNow
CALSCALE:GREGORIAN
BEGIN:VEVENT
UID:cc1b18d0-f2b4-11ea-a7ba-122b39c516e9
DTSTAMP:20200909T155452Z
SUMMARY:No School
URL;VALUE=URI:https://www.niles71.org/about-us/calendar/2343289/no-school
DTSTART:20201103T155400Z
DTEND:20201103T165400Z
END:VEVENT
END:VCALENDAR
