BEGIN:VCALENDAR
VERSION:2.0
PRODID:SchoolNow
CALSCALE:GREGORIAN
BEGIN:VEVENT
UID:33a266de-f2b5-11ea-858b-0a950feb706d
DTSTAMP:20201104T171326Z
SUMMARY:No School
URL;VALUE=URI:https://www.niles71.org/about-us/calendar/2343293/no-school-p
 arent-teacher-conferences
DTSTART:20201124T080000Z
DTEND:20201124T120000Z
END:VEVENT
END:VCALENDAR
