BEGIN:VCALENDAR
VERSION:2.0
PRODID:SchoolNow
CALSCALE:GREGORIAN
BEGIN:VEVENT
UID:72e52fe8-f2b5-11ea-8b00-0a950feb706d
DTSTAMP:20200909T155931Z
SUMMARY:No School
URL;VALUE=URI:https://www.niles71.org/about-us/calendar/2343294/no-school
DTSTART:20201125T155900Z
DTEND:20201125T165900Z
END:VEVENT
END:VCALENDAR
