BEGIN:VCALENDAR
VERSION:2.0
PRODID:SchoolNow
CALSCALE:GREGORIAN
BEGIN:VEVENT
UID:83a62ef4-f2b5-11ea-8ab3-0a950feb706d
DTSTAMP:20200909T155959Z
SUMMARY:No School - Thanksgiving
URL;VALUE=URI:https://www.niles71.org/about-us/calendar/2343295/no-school-t
 hanksgiving
DTSTART:20201126T155900Z
DTEND:20201126T165900Z
END:VEVENT
END:VCALENDAR
