BEGIN:VCALENDAR
VERSION:2.0
PRODID:SchoolNow
CALSCALE:GREGORIAN
BEGIN:VEVENT
UID:b1c5432e-f2b5-11ea-a515-0a950feb706d
DTSTAMP:20200909T160117Z
SUMMARY:No School
URL;VALUE=URI:https://www.niles71.org/about-us/calendar/2343296/no-school
DTSTART:20201127T160000Z
DTEND:20201127T170000Z
END:VEVENT
END:VCALENDAR
