BEGIN:VCALENDAR
VERSION:2.0
PRODID:SchoolNow
CALSCALE:GREGORIAN
BEGIN:VEVENT
UID:5fe74dc0-f2b7-11ea-bf5f-0aab710249ed
DTSTAMP:20200909T161319Z
SUMMARY:No School  - Martin Luther King Day
URL;VALUE=URI:https://www.niles71.org/about-us/calendar/2343343/no-school-m
 artin-luther-king-day
DTSTART:20210118T160800Z
DTEND:20210118T170800Z
END:VEVENT
END:VCALENDAR
