BEGIN:VCALENDAR
VERSION:2.0
PRODID:SchoolNow
CALSCALE:GREGORIAN
BEGIN:VEVENT
UID:75719164-f2b7-11ea-9fa8-0aab710249ed
DTSTAMP:20200909T161355Z
SUMMARY:No School - President's Day
URL;VALUE=URI:https://www.niles71.org/about-us/calendar/2343344/no-school-p
 residents-day
DTSTART:20210215T161300Z
DTEND:20210215T171300Z
END:VEVENT
END:VCALENDAR
