BEGIN:VCALENDAR
VERSION:2.0
PRODID:SchoolNow
CALSCALE:GREGORIAN
BEGIN:VEVENT
UID:d5a810c6-f2b7-11ea-aa36-0ab4d1951ca1
DTSTAMP:20200909T161636Z
SUMMARY:No School - Teacher Institute Day
URL;VALUE=URI:https://www.niles71.org/about-us/calendar/2343346/no-school-t
 eacher-institute-day
DTSTART:20210226T161500Z
DTEND:20210226T171500Z
END:VEVENT
END:VCALENDAR
