BEGIN:VCALENDAR
VERSION:2.0
PRODID:SchoolNow
CALSCALE:GREGORIAN
BEGIN:VEVENT
UID:11e01eda-f2b8-11ea-b3e1-0aab710249ed
DTSTAMP:20210602T205510Z
SUMMARY:Spring Break
URL;VALUE=URI:https://www.niles71.org/about-us/calendar/2343347/spring-brea
 k
DTSTART;VALUE=DATE:20210328
DTEND;VALUE=DATE:20210402
END:VEVENT
END:VCALENDAR
