BEGIN:VCALENDAR
VERSION:2.0
PRODID:SchoolNow
CALSCALE:GREGORIAN
BEGIN:VEVENT
UID:a7a692c0-f2bb-11ea-9b14-127746ebf559
DTSTAMP:20200909T164357Z
SUMMARY:Winter Break
URL;VALUE=URI:https://www.niles71.org/about-us/calendar/2343352/winter-brea
 k
DTSTART:20201221T080000Z
DTEND:20210101T150000Z
END:VEVENT
END:VCALENDAR
