BEGIN:VCALENDAR
VERSION:2.0
PRODID:SchoolNow
CALSCALE:GREGORIAN
BEGIN:VEVENT
UID:f792927a-f2bb-11ea-9695-0aab710249ed
DTSTAMP:20210201T163158Z
SUMMARY:Last Day - Student Non Attendance Day
URL;VALUE=URI:https://www.niles71.org/about-us/calendar/2343353/last-day-of
 -school-1-00pm-release
DTSTART:20210607T164500Z
DTEND:20210607T174500Z
END:VEVENT
END:VCALENDAR
