BEGIN:VCALENDAR
VERSION:2.0
PRODID:SchoolNow
CALSCALE:GREGORIAN
BEGIN:VEVENT
UID:3d6ec8ea-f2bc-11ea-9c07-0a6f5156cc39
DTSTAMP:20200909T164808Z
SUMMARY:No School - Memorial Day
URL;VALUE=URI:https://www.niles71.org/about-us/calendar/2343354/no-school-m
 emorial-day
DTSTART:20200909T164700Z
DTEND:20200909T174700Z
END:VEVENT
END:VCALENDAR
