BEGIN:VCALENDAR
VERSION:2.0
PRODID:SchoolNow
CALSCALE:GREGORIAN
BEGIN:VEVENT
UID:54ebc35a-f2bd-11ea-8a22-0ab4d1951ca1
DTSTAMP:20201029T203856Z
SUMMARY:Early Release Day
URL;VALUE=URI:https://www.niles71.org/about-us/calendar/2343359/early-relea
 se-day
DTSTART:20201218T123000Z
DTEND:20201218T133000Z
END:VEVENT
END:VCALENDAR
