BEGIN:VCALENDAR
VERSION:2.0
PRODID:SchoolNow
CALSCALE:GREGORIAN
BEGIN:VEVENT
UID:63ccbadc-f2bd-11ea-8c16-0ab4d1951ca1
DTSTAMP:20210113T173029Z
SUMMARY:Early Release Day
URL;VALUE=URI:https://www.niles71.org/about-us/calendar/2343360/early-relea
 se-day
DTSTART:20210115T123000Z
DTEND:20210115T130000Z
END:VEVENT
END:VCALENDAR
