BEGIN:VCALENDAR
VERSION:2.0
PRODID:SchoolNow
CALSCALE:GREGORIAN
BEGIN:VEVENT
UID:d9ffe6a2-f2bd-11ea-8295-0a413e9c3b49
DTSTAMP:20210201T162845Z
SUMMARY:Student Non Attendance Day
URL;VALUE=URI:https://www.niles71.org/about-us/calendar/2343364/early-relea
 se-day
DTSTART:20210212T123000Z
DTEND:20210212T133000Z
END:VEVENT
END:VCALENDAR
