BEGIN:VCALENDAR
VERSION:2.0
PRODID:SchoolNow
CALSCALE:GREGORIAN
BEGIN:VEVENT
UID:0e585a92-f2be-11ea-9207-0aef5c7b6287
DTSTAMP:20210201T162922Z
SUMMARY:Student Non Attendance Day
URL;VALUE=URI:https://www.niles71.org/about-us/calendar/2343365/early-relea
 se-day
DTSTART:20210326T123000Z
DTEND:20210326T133000Z
END:VEVENT
END:VCALENDAR
