BEGIN:VCALENDAR
VERSION:2.0
PRODID:SchoolNow
CALSCALE:GREGORIAN
BEGIN:VEVENT
UID:961b2df4-f2ca-11ea-b467-0aef5c7b6287
DTSTAMP:20210201T162949Z
SUMMARY:Student Non Attendance Day
URL;VALUE=URI:https://www.niles71.org/about-us/calendar/2343580/early-relea
 se-day
DTSTART:20210430T123000Z
DTEND:20210430T133000Z
END:VEVENT
END:VCALENDAR
