BEGIN:VCALENDAR
VERSION:2.0
PRODID:SchoolNow
CALSCALE:GREGORIAN
BEGIN:VEVENT
UID:e92c9f6e-f2ca-11ea-b95c-1275bd18de39
DTSTAMP:20210201T163015Z
SUMMARY:Student Non Attendance Day
URL;VALUE=URI:https://www.niles71.org/about-us/calendar/2343581/early-relea
 se-day
DTSTART:20210528T123000Z
DTEND:20210528T133000Z
END:VEVENT
END:VCALENDAR
