BEGIN:VCALENDAR
VERSION:2.0
PRODID:SchoolNow
CALSCALE:GREGORIAN
BEGIN:VEVENT
UID:cd6c5d18-f2cb-11ea-8864-0aab710249ed
DTSTAMP:20200909T185353Z
SUMMARY:No School - Memorial Day
URL;VALUE=URI:https://www.niles71.org/about-us/calendar/2343582/no-school-m
 emorial-day
DTSTART:20210531T183800Z
DTEND:20210531T193800Z
END:VEVENT
END:VCALENDAR
