BEGIN:VCALENDAR
VERSION:2.0
PRODID:SchoolNow
CALSCALE:GREGORIAN
BEGIN:VEVENT
UID:a4fece76-f2ce-11ea-b170-1281cd704e31
DTSTAMP:20200909T185953Z
SUMMARY:Virtual Curriculum Night
URL;VALUE=URI:https://www.niles71.org/about-us/calendar/2343660/virtual-cur
 riculum-night
DTSTART:20200910T183000Z
DTEND:20200910T200000Z
END:VEVENT
END:VCALENDAR
