BEGIN:VCALENDAR
VERSION:2.0
PRODID:SchoolNow
CALSCALE:GREGORIAN
BEGIN:VEVENT
UID:a8715afa-ff3b-11ea-af47-0a17546c18eb
DTSTAMP:20200925T143630Z
SUMMARY:2nd Grade\, Special Education      Hybrid Begins (only)
URL;VALUE=URI:https://www.niles71.org/about-us/calendar/2386236/2nd-grade-s
 pecial-ed-hybrid-begins-only
DTSTART;VALUE=DATE:20200928
DTEND;VALUE=DATE:20200929
END:VEVENT
END:VCALENDAR
