BEGIN:VCALENDAR
VERSION:2.0
PRODID:SchoolNow
CALSCALE:GREGORIAN
BEGIN:VEVENT
UID:2d83fec8-ff3c-11ea-9f77-124991cb02c7
DTSTAMP:20200925T143411Z
SUMMARY:1st Grade\, Kindergarten Hybrid Begins
URL;VALUE=URI:https://www.niles71.org/about-us/calendar/2386237/1st-grade-k
 indergarten-hybrid-begisn
DTSTART;VALUE=DATE:20201005
DTEND;VALUE=DATE:20201006
END:VEVENT
END:VCALENDAR
