BEGIN:VCALENDAR
VERSION:2.0
PRODID:SchoolNow
CALSCALE:GREGORIAN
BEGIN:VEVENT
UID:456d1736-ff3c-11ea-90a4-124991cb02c7
DTSTAMP:20200925T143451Z
SUMMARY:3rd\, 4th\, 5th Grade Hybrid Begins
URL;VALUE=URI:https://www.niles71.org/about-us/calendar/2386238/3rd-4th-5th
 -grade-hybrid-begins
DTSTART;VALUE=DATE:20201012
DTEND;VALUE=DATE:20201013
END:VEVENT
END:VCALENDAR
