BEGIN:VCALENDAR
VERSION:2.0
PRODID:SchoolNow
CALSCALE:GREGORIAN
BEGIN:VEVENT
UID:384f588a-6c8c-11eb-8c58-0e84d8589b77
DTSTAMP:20210211T171223Z
SUMMARY:Student Non Attendance Day
URL;VALUE=URI:https://www.niles71.org/about-us/calendar/2538358/student-non
 -attendance-day
DTSTART:20210405T000000Z
DTEND:20210405T235900Z
END:VEVENT
END:VCALENDAR
