BEGIN:VCALENDAR
VERSION:2.0
PRODID:SchoolNow
CALSCALE:GREGORIAN
BEGIN:VEVENT
UID:955585da-c3bd-11eb-b69a-0296607c9f87
DTSTAMP:20210602T162153Z
SUMMARY:Board of Education Meeting
URL;VALUE=URI:https://www.niles71.org/about-us/calendar/2609780/board-of-ed
 ucation-meeting
DTSTART:20210727T183000Z
DTEND:20210727T193000Z
END:VEVENT
END:VCALENDAR
