BEGIN:VCALENDAR
VERSION:2.0
PRODID:SchoolNow
CALSCALE:GREGORIAN
BEGIN:VEVENT
UID:c4fa31da-ed7b-11ec-b5ca-02a5a969191b
DTSTAMP:20220616T135358Z
SUMMARY:Board of Education Meeting
URL;VALUE=URI:https://www.niles71.org/about-us/calendar/3221447/board-of-ed
 ucation-meeting
DTSTART:20220816T183000Z
DTEND:20220816T193000Z
END:VEVENT
END:VCALENDAR
