BEGIN:VCALENDAR
VERSION:2.0
PRODID:SchoolNow
CALSCALE:GREGORIAN
BEGIN:VEVENT
UID:256e9c5c-edab-11ec-9b8a-0255699ffb2d
DTSTAMP:20220616T193306Z
SUMMARY:Preschool Information Night
URL;VALUE=URI:https://www.niles71.org/about-us/calendar/3221883/preschool-i
 nformation-night
DTSTART:20220819T160000Z
DTEND:20220819T170000Z
END:VEVENT
END:VCALENDAR
