BEGIN:VCALENDAR
VERSION:2.0
PRODID:SchoolNow
CALSCALE:GREGORIAN
BEGIN:VEVENT
UID:6c00c47e-edab-11ec-abaa-0255699ffb2d
DTSTAMP:20220616T193750Z
SUMMARY:First Day of School for Preschool
URL;VALUE=URI:https://www.niles71.org/about-us/calendar/3221884/first-day-o
 f-school-for-preschool
DTSTART:20220823T193400Z
DTEND:20220823T203400Z
END:VEVENT
END:VCALENDAR
