BEGIN:VCALENDAR
VERSION:2.0
PRODID:SchoolNow
CALSCALE:GREGORIAN
BEGIN:VEVENT
UID:a72e7d84-edab-11ec-872c-0255699ffb2d
DTSTAMP:20220616T193644Z
SUMMARY:First Day of School Grades 1-8
URL;VALUE=URI:https://www.niles71.org/about-us/calendar/3221885/first-day-o
 f-school-grades-1-8
DTSTART:20220823T193600Z
DTEND:20220823T203600Z
END:VEVENT
END:VCALENDAR
