BEGIN:VCALENDAR
VERSION:2.0
PRODID:SchoolNow
CALSCALE:GREGORIAN
BEGIN:VEVENT
UID:fd45a1d4-edab-11ec-922a-0255699ffb2d
DTSTAMP:20220616T210648Z
SUMMARY:Kindergarten Information Night
URL;VALUE=URI:https://www.niles71.org/about-us/calendar/3221886/kindergarte
 n-information-night
DTSTART:20220823T173000Z
DTEND:20220823T183000Z
END:VEVENT
END:VCALENDAR
