BEGIN:VCALENDAR
VERSION:2.0
PRODID:SchoolNow
CALSCALE:GREGORIAN
BEGIN:VEVENT
UID:1cfdede2-edac-11ec-bcec-0255699ffb2d
DTSTAMP:20220616T194001Z
SUMMARY:Kindergarten Parent/Student Orientation
URL;VALUE=URI:https://www.niles71.org/about-us/calendar/3221887/kindergarte
 n-parent-student-orientation
DTSTART:20220824T193900Z
DTEND:20220824T203900Z
END:VEVENT
END:VCALENDAR
