BEGIN:VCALENDAR
VERSION:2.0
PRODID:SchoolNow
CALSCALE:GREGORIAN
BEGIN:VEVENT
UID:37296a66-edac-11ec-b7f6-0255699ffb2d
DTSTAMP:20220616T194045Z
SUMMARY:First Full Day of School for Kindergarten
URL;VALUE=URI:https://www.niles71.org/about-us/calendar/3221888/first-full-
 day-of-school-for-kindergarten
DTSTART:20220825T194000Z
DTEND:20220825T204000Z
END:VEVENT
END:VCALENDAR
