BEGIN:VCALENDAR
VERSION:2.0
PRODID:SchoolNow
CALSCALE:GREGORIAN
BEGIN:VEVENT
UID:72d0acb4-edac-11ec-acf9-0255699ffb2d
DTSTAMP:20220616T194615Z
SUMMARY:No School - Teacher Institute Day
URL;VALUE=URI:https://www.niles71.org/about-us/calendar/3221891/teacher-ins
 titute-day
DTSTART:20220819T194100Z
DTEND:20220819T204100Z
END:VEVENT
END:VCALENDAR
